BEGIN:VCALENDAR
VERSION:2.0
PRODID:-//Rosherville Church of England Academy - ECPv6.15.20//NONSGML v1.0//EN
CALSCALE:GREGORIAN
METHOD:PUBLISH
X-WR-CALNAME:Rosherville Church of England Academy
X-ORIGINAL-URL:https://www.rosherville.kent.sch.uk
X-WR-CALDESC:Events for Rosherville Church of England Academy
REFRESH-INTERVAL;VALUE=DURATION:PT1H
X-Robots-Tag:noindex
X-PUBLISHED-TTL:PT1H
BEGIN:VTIMEZONE
TZID:Europe/London
BEGIN:DAYLIGHT
TZOFFSETFROM:+0000
TZOFFSETTO:+0100
TZNAME:BST
DTSTART:20210328T010000
END:DAYLIGHT
BEGIN:STANDARD
TZOFFSETFROM:+0100
TZOFFSETTO:+0000
TZNAME:GMT
DTSTART:20211031T010000
END:STANDARD
BEGIN:DAYLIGHT
TZOFFSETFROM:+0000
TZOFFSETTO:+0100
TZNAME:BST
DTSTART:20220327T010000
END:DAYLIGHT
BEGIN:STANDARD
TZOFFSETFROM:+0100
TZOFFSETTO:+0000
TZNAME:GMT
DTSTART:20221030T010000
END:STANDARD
BEGIN:DAYLIGHT
TZOFFSETFROM:+0000
TZOFFSETTO:+0100
TZNAME:BST
DTSTART:20230326T010000
END:DAYLIGHT
BEGIN:STANDARD
TZOFFSETFROM:+0100
TZOFFSETTO:+0000
TZNAME:GMT
DTSTART:20231029T010000
END:STANDARD
END:VTIMEZONE
BEGIN:VEVENT
DTSTART;TZID=Europe/London:20221108T150000
DTEND;TZID=Europe/London:20221108T170000
DTSTAMP:20260423T194515
CREATED:20221020T151809Z
LAST-MODIFIED:20221020T151809Z
UID:14204-1667919600-1667926800@www.rosherville.kent.sch.uk
SUMMARY:Parents Evening
DESCRIPTION:
URL:https://www.rosherville.kent.sch.uk/event/parents-evening/
CATEGORIES:School
END:VEVENT
BEGIN:VEVENT
DTSTART;TZID=Europe/London:20221108T153000
DTEND;TZID=Europe/London:20221108T170000
DTSTAMP:20260423T194515
CREATED:20221020T151902Z
LAST-MODIFIED:20221020T151902Z
UID:14206-1667921400-1667926800@www.rosherville.kent.sch.uk
SUMMARY:Open Event - Reception 2023 Parents
DESCRIPTION:
URL:https://www.rosherville.kent.sch.uk/event/open-event-reception-2023-parents/
CATEGORIES:School
END:VEVENT
END:VCALENDAR