BEGIN:VCALENDAR
VERSION:2.0
PRODID:-//Rosherville Church of England Academy - ECPv6.15.20//NONSGML v1.0//EN
CALSCALE:GREGORIAN
METHOD:PUBLISH
X-WR-CALNAME:Rosherville Church of England Academy
X-ORIGINAL-URL:https://www.rosherville.kent.sch.uk
X-WR-CALDESC:Events for Rosherville Church of England Academy
REFRESH-INTERVAL;VALUE=DURATION:PT1H
X-Robots-Tag:noindex
X-PUBLISHED-TTL:PT1H
BEGIN:VTIMEZONE
TZID:Europe/London
BEGIN:DAYLIGHT
TZOFFSETFROM:+0000
TZOFFSETTO:+0100
TZNAME:BST
DTSTART:20220327T010000
END:DAYLIGHT
BEGIN:STANDARD
TZOFFSETFROM:+0100
TZOFFSETTO:+0000
TZNAME:GMT
DTSTART:20221030T010000
END:STANDARD
BEGIN:DAYLIGHT
TZOFFSETFROM:+0000
TZOFFSETTO:+0100
TZNAME:BST
DTSTART:20230326T010000
END:DAYLIGHT
BEGIN:STANDARD
TZOFFSETFROM:+0100
TZOFFSETTO:+0000
TZNAME:GMT
DTSTART:20231029T010000
END:STANDARD
BEGIN:DAYLIGHT
TZOFFSETFROM:+0000
TZOFFSETTO:+0100
TZNAME:BST
DTSTART:20240331T010000
END:DAYLIGHT
BEGIN:STANDARD
TZOFFSETFROM:+0100
TZOFFSETTO:+0000
TZNAME:GMT
DTSTART:20241027T010000
END:STANDARD
END:VTIMEZONE
BEGIN:VEVENT
DTSTART;TZID=Europe/London:20230417T000000
DTEND;TZID=Europe/London:20230417T000000
DTSTAMP:20260423T104300
CREATED:20220907T114553Z
LAST-MODIFIED:20221020T155558Z
UID:12290-1681689600-1681689600@www.rosherville.kent.sch.uk
SUMMARY:Staff inset day- children not in school.
DESCRIPTION:
URL:https://www.rosherville.kent.sch.uk/event/staff-inset-day-children-not-in-school-5/
END:VEVENT
BEGIN:VEVENT
DTSTART;VALUE=DATE:20230418
DTEND;VALUE=DATE:20230419
DTSTAMP:20260423T104300
CREATED:20230329T123403Z
LAST-MODIFIED:20230329T123403Z
UID:15191-1681776000-1681862399@www.rosherville.kent.sch.uk
SUMMARY:St George's Day Workshop- Rauf Class
DESCRIPTION:
URL:https://www.rosherville.kent.sch.uk/event/st-georges-day-workshop-rauf-class/
END:VEVENT
BEGIN:VEVENT
DTSTART;VALUE=DATE:20230424
DTEND;VALUE=DATE:20230425
DTSTAMP:20260423T104300
CREATED:20230329T123454Z
LAST-MODIFIED:20230329T123535Z
UID:15193-1682294400-1682380799@www.rosherville.kent.sch.uk
SUMMARY:Individual and Sibling Photos
DESCRIPTION:
URL:https://www.rosherville.kent.sch.uk/event/individual-and-sibling-photos/
END:VEVENT
BEGIN:VEVENT
DTSTART;TZID=Europe/London:20230424T130000
DTEND;TZID=Europe/London:20230424T150000
DTSTAMP:20260423T104300
CREATED:20230329T123622Z
LAST-MODIFIED:20230329T123633Z
UID:15195-1682341200-1682348400@www.rosherville.kent.sch.uk
SUMMARY:Eid Celebration - Class Parties
DESCRIPTION:
URL:https://www.rosherville.kent.sch.uk/event/eid-celebration-class-parties/
CATEGORIES:School
END:VEVENT
BEGIN:VEVENT
DTSTART;TZID=Europe/London:20230425T130000
DTEND;TZID=Europe/London:20230425T150000
DTSTAMP:20260423T104300
CREATED:20230424T152000Z
LAST-MODIFIED:20230424T152000Z
UID:15277-1682427600-1682434800@www.rosherville.kent.sch.uk
SUMMARY:Rocket Making Parent and Child Workshop
DESCRIPTION:
URL:https://www.rosherville.kent.sch.uk/event/rocket-making-parent-and-child-workshop-2/
END:VEVENT
BEGIN:VEVENT
DTSTART;TZID=Europe/London:20230426T133000
DTEND;TZID=Europe/London:20230426T150000
DTSTAMP:20260423T104300
CREATED:20230424T152039Z
LAST-MODIFIED:20230424T152039Z
UID:15279-1682515800-1682521200@www.rosherville.kent.sch.uk
SUMMARY:Murphy Class Coronation Community Art Work Project – Parents/Carers invited
DESCRIPTION:
URL:https://www.rosherville.kent.sch.uk/event/murphy-class-coronation-community-art-work-project-parents-carers-invited/
END:VEVENT
BEGIN:VEVENT
DTSTART;TZID=Europe/London:20230428T130000
DTEND;TZID=Europe/London:20230428T143000
DTSTAMP:20260423T104300
CREATED:20230424T152110Z
LAST-MODIFIED:20230424T152110Z
UID:15281-1682686800-1682692200@www.rosherville.kent.sch.uk
SUMMARY:Dahl Class Coronation Community Art Work Project – Parents/Carers invited
DESCRIPTION:
URL:https://www.rosherville.kent.sch.uk/event/dahl-class-coronation-community-art-work-project-parents-carers-invited/
END:VEVENT
END:VCALENDAR