BEGIN:VCALENDAR
VERSION:2.0
PRODID:-//Rosherville Church of England Academy - ECPv6.15.20//NONSGML v1.0//EN
CALSCALE:GREGORIAN
METHOD:PUBLISH
X-ORIGINAL-URL:https://www.rosherville.kent.sch.uk
X-WR-CALDESC:Events for Rosherville Church of England Academy
REFRESH-INTERVAL;VALUE=DURATION:PT1H
X-Robots-Tag:noindex
X-PUBLISHED-TTL:PT1H
BEGIN:VTIMEZONE
TZID:Europe/London
BEGIN:DAYLIGHT
TZOFFSETFROM:+0000
TZOFFSETTO:+0100
TZNAME:BST
DTSTART:20220327T010000
END:DAYLIGHT
BEGIN:STANDARD
TZOFFSETFROM:+0100
TZOFFSETTO:+0000
TZNAME:GMT
DTSTART:20221030T010000
END:STANDARD
BEGIN:DAYLIGHT
TZOFFSETFROM:+0000
TZOFFSETTO:+0100
TZNAME:BST
DTSTART:20230326T010000
END:DAYLIGHT
BEGIN:STANDARD
TZOFFSETFROM:+0100
TZOFFSETTO:+0000
TZNAME:GMT
DTSTART:20231029T010000
END:STANDARD
BEGIN:DAYLIGHT
TZOFFSETFROM:+0000
TZOFFSETTO:+0100
TZNAME:BST
DTSTART:20240331T010000
END:DAYLIGHT
BEGIN:STANDARD
TZOFFSETFROM:+0100
TZOFFSETTO:+0000
TZNAME:GMT
DTSTART:20241027T010000
END:STANDARD
END:VTIMEZONE
BEGIN:VEVENT
DTSTART;VALUE=DATE:20230501
DTEND;VALUE=DATE:20230502
DTSTAMP:20260423T091343
CREATED:20230424T152139Z
LAST-MODIFIED:20230424T152139Z
UID:15283-1682899200-1682985599@www.rosherville.kent.sch.uk
SUMMARY:Bank Holiday - School Closed
DESCRIPTION:
URL:https://www.rosherville.kent.sch.uk/event/bank-holiday-school-closed-3/
END:VEVENT
BEGIN:VEVENT
DTSTART;TZID=Europe/London:20230502T133000
DTEND;TZID=Europe/London:20230502T150000
DTSTAMP:20260423T091343
CREATED:20230424T152212Z
LAST-MODIFIED:20230424T152212Z
UID:15286-1683034200-1683039600@www.rosherville.kent.sch.uk
SUMMARY:Donaldson Class Coronation Community Art Work Project – Parents/Carers invited
DESCRIPTION:
URL:https://www.rosherville.kent.sch.uk/event/donaldson-class-coronation-community-art-work-project-parents-carers-invited/
END:VEVENT
BEGIN:VEVENT
DTSTART;TZID=Europe/London:20230503T133000
DTEND;TZID=Europe/London:20230503T150000
DTSTAMP:20260423T091343
CREATED:20230424T152247Z
LAST-MODIFIED:20230424T152247Z
UID:15288-1683120600-1683126000@www.rosherville.kent.sch.uk
SUMMARY:Rauf Class Coronation Community Art Work Project – Parents/Carers invited
DESCRIPTION:
URL:https://www.rosherville.kent.sch.uk/event/rauf-class-coronation-community-art-work-project-parents-carers-invited/
END:VEVENT
BEGIN:VEVENT
DTSTART;TZID=Europe/London:20230505T090000
DTEND;TZID=Europe/London:20230505T103000
DTSTAMP:20260423T091343
CREATED:20230424T152313Z
LAST-MODIFIED:20230424T152313Z
UID:15290-1683277200-1683282600@www.rosherville.kent.sch.uk
SUMMARY:Shakespeare Class Coronation Community Art Work Project – Parents/Carers invited
DESCRIPTION:
URL:https://www.rosherville.kent.sch.uk/event/shakespeare-class-coronation-community-art-work-project-parents-carers-invited/
END:VEVENT
BEGIN:VEVENT
DTSTART;TZID=Europe/London:20230505T130000
DTEND;TZID=Europe/London:20230505T150000
DTSTAMP:20260423T091343
CREATED:20230329T123903Z
LAST-MODIFIED:20230329T123903Z
UID:15201-1683291600-1683298800@www.rosherville.kent.sch.uk
SUMMARY:Coronation Street Party
DESCRIPTION:
URL:https://www.rosherville.kent.sch.uk/event/coronation-street-party/
CATEGORIES:School
END:VEVENT
BEGIN:VEVENT
DTSTART;TZID=Europe/London:20230508T000000
DTEND;TZID=Europe/London:20230508T000000
DTSTAMP:20260423T091343
CREATED:20220907T114753Z
LAST-MODIFIED:20221020T151647Z
UID:12294-1683504000-1683504000@www.rosherville.kent.sch.uk
SUMMARY:Mental Health Awareness Day
DESCRIPTION:
URL:https://www.rosherville.kent.sch.uk/event/mental-health-awareness-day-2/
END:VEVENT
BEGIN:VEVENT
DTSTART;TZID=Europe/London:20230508T080000
DTEND;TZID=Europe/London:20230512T150000
DTSTAMP:20260423T091343
CREATED:20221020T155022Z
LAST-MODIFIED:20221020T155022Z
UID:14236-1683532800-1683903600@www.rosherville.kent.sch.uk
SUMMARY:KS2 SATS Week
DESCRIPTION:
URL:https://www.rosherville.kent.sch.uk/event/ks2-sats-week/
CATEGORIES:School
END:VEVENT
BEGIN:VEVENT
DTSTART;TZID=Europe/London:20230509T090000
DTEND;TZID=Europe/London:20230512T150000
DTSTAMP:20260423T091343
CREATED:20230329T124102Z
LAST-MODIFIED:20230329T124102Z
UID:15205-1683622800-1683903600@www.rosherville.kent.sch.uk
SUMMARY:Year 6 SATs Week
DESCRIPTION:
URL:https://www.rosherville.kent.sch.uk/event/year-6-sats-week-3/
CATEGORIES:School
END:VEVENT
BEGIN:VEVENT
DTSTART;TZID=Europe/London:20230512T120000
DTEND;TZID=Europe/London:20230512T150000
DTSTAMP:20260423T091343
CREATED:20221020T155113Z
LAST-MODIFIED:20221020T155113Z
UID:14238-1683892800-1683903600@www.rosherville.kent.sch.uk
SUMMARY:Year 6 Pizza Party and Water Fight
DESCRIPTION:
URL:https://www.rosherville.kent.sch.uk/event/year-6-pizza-party-and-water-fight/
END:VEVENT
BEGIN:VEVENT
DTSTART;TZID=Europe/London:20230515T080000
DTEND;TZID=Europe/London:20230519T150000
DTSTAMP:20260423T091343
CREATED:20221020T155153Z
LAST-MODIFIED:20221020T155153Z
UID:14240-1684137600-1684508400@www.rosherville.kent.sch.uk
SUMMARY:KS1 SATS Week
DESCRIPTION:
URL:https://www.rosherville.kent.sch.uk/event/ks1-sats-week/
CATEGORIES:School
END:VEVENT
BEGIN:VEVENT
DTSTART;TZID=Europe/London:20230515T090000
DTEND;TZID=Europe/London:20230526T130000
DTSTAMP:20260423T091343
CREATED:20230329T124156Z
LAST-MODIFIED:20230329T124207Z
UID:15207-1684141200-1685106000@www.rosherville.kent.sch.uk
SUMMARY:Year 2 SATs
DESCRIPTION:
URL:https://www.rosherville.kent.sch.uk/event/year-2-sats/
CATEGORIES:School
END:VEVENT
BEGIN:VEVENT
DTSTART;TZID=Europe/London:20230516T080000
DTEND;TZID=Europe/London:20230516T170000
DTSTAMP:20260423T091343
CREATED:20230424T152414Z
LAST-MODIFIED:20230424T152414Z
UID:15292-1684224000-1684256400@www.rosherville.kent.sch.uk
SUMMARY:Dahl\, Rauf and Shakespeare Gravesend Gurdwara Visit
DESCRIPTION:
URL:https://www.rosherville.kent.sch.uk/event/dahl-rauf-and-shakespeare-gravesend-gurdwara-visit/
END:VEVENT
BEGIN:VEVENT
DTSTART;VALUE=DATE:20230517
DTEND;VALUE=DATE:20230518
DTSTAMP:20260423T091343
CREATED:20230329T125146Z
LAST-MODIFIED:20230329T125146Z
UID:15211-1684281600-1684367999@www.rosherville.kent.sch.uk
SUMMARY:NHS Vision Screening Check for YR
DESCRIPTION:
URL:https://www.rosherville.kent.sch.uk/event/nhs-vision-screening-check-for-yr/
END:VEVENT
BEGIN:VEVENT
DTSTART;TZID=Europe/London:20230518T000000
DTEND;TZID=Europe/London:20230518T235959
DTSTAMP:20260423T091343
CREATED:20221020T155234Z
LAST-MODIFIED:20221020T155234Z
UID:14242-1684368000-1684454399@www.rosherville.kent.sch.uk
SUMMARY:CENSUS
DESCRIPTION:
URL:https://www.rosherville.kent.sch.uk/event/census/
CATEGORIES:School
END:VEVENT
BEGIN:VEVENT
DTSTART;TZID=Europe/London:20230522T080000
DTEND;TZID=Europe/London:20230526T150000
DTSTAMP:20260423T091343
CREATED:20221020T155314Z
LAST-MODIFIED:20221020T155314Z
UID:14244-1684742400-1685113200@www.rosherville.kent.sch.uk
SUMMARY:KS1 SATS
DESCRIPTION:
URL:https://www.rosherville.kent.sch.uk/event/ks1-sats/
CATEGORIES:School
END:VEVENT
BEGIN:VEVENT
DTSTART;VALUE=DATE:20230526
DTEND;VALUE=DATE:20230527
DTSTAMP:20260423T091343
CREATED:20230329T125311Z
LAST-MODIFIED:20230424T152445Z
UID:15213-1685059200-1685145599@www.rosherville.kent.sch.uk
SUMMARY:Dahl and Rauf Class Trip to Planetarium
DESCRIPTION:
URL:https://www.rosherville.kent.sch.uk/event/dahl-rauf-class-trip-to-planetarium/
END:VEVENT
BEGIN:VEVENT
DTSTART;VALUE=DATE:20230526
DTEND;VALUE=DATE:20230527
DTSTAMP:20260423T091343
CREATED:20230329T125413Z
LAST-MODIFIED:20230329T130432Z
UID:15215-1685059200-1685145599@www.rosherville.kent.sch.uk
SUMMARY:Last Day of Term 5
DESCRIPTION:
URL:https://www.rosherville.kent.sch.uk/event/last-day-of-term-5/
CATEGORIES:School
END:VEVENT
END:VCALENDAR